BEGIN:VCALENDAR
VERSION:2.0
PRODID:-//Banda Orquestral Os Infantes - ECPv6.15.20//NONSGML v1.0//EN
CALSCALE:GREGORIAN
METHOD:PUBLISH
X-ORIGINAL-URL:https://osinfantes.pt
X-WR-CALDESC:Eventos para Banda Orquestral Os Infantes
REFRESH-INTERVAL;VALUE=DURATION:PT1H
X-Robots-Tag:noindex
X-PUBLISHED-TTL:PT1H
BEGIN:VTIMEZONE
TZID:Atlantic/Madeira
BEGIN:DAYLIGHT
TZOFFSETFROM:+0000
TZOFFSETTO:+0100
TZNAME:WEST
DTSTART:20250330T010000
END:DAYLIGHT
BEGIN:STANDARD
TZOFFSETFROM:+0100
TZOFFSETTO:+0000
TZNAME:WET
DTSTART:20251026T010000
END:STANDARD
BEGIN:DAYLIGHT
TZOFFSETFROM:+0000
TZOFFSETTO:+0100
TZNAME:WEST
DTSTART:20260329T010000
END:DAYLIGHT
BEGIN:STANDARD
TZOFFSETFROM:+0100
TZOFFSETTO:+0000
TZNAME:WET
DTSTART:20261025T010000
END:STANDARD
BEGIN:DAYLIGHT
TZOFFSETFROM:+0000
TZOFFSETTO:+0100
TZNAME:WEST
DTSTART:20270328T010000
END:DAYLIGHT
BEGIN:STANDARD
TZOFFSETFROM:+0100
TZOFFSETTO:+0000
TZNAME:WET
DTSTART:20271031T010000
END:STANDARD
BEGIN:DAYLIGHT
TZOFFSETFROM:+0000
TZOFFSETTO:+0100
TZNAME:WEST
DTSTART:20280326T010000
END:DAYLIGHT
BEGIN:STANDARD
TZOFFSETFROM:+0100
TZOFFSETTO:+0000
TZNAME:WET
DTSTART:20281029T010000
END:STANDARD
END:VTIMEZONE
BEGIN:VEVENT
DTSTART;VALUE=DATE:20260814
DTEND;VALUE=DATE:20260816
DTSTAMP:20260422T032834
CREATED:20250823T193658Z
LAST-MODIFIED:20250904T210723Z
UID:8215-1786665600-1786838399@osinfantes.pt
SUMMARY:Festa de Nossa Senhora da Graça - Estreito de Câmara de Lobos
DESCRIPTION:Dia 14 – 12h às 24h \nDia 15 – 9h às 24h
URL:https://osinfantes.pt/evento/festa-de-nossa-senhora-da-graca-estreito-de-camara-de-lobos-2/
LOCATION:Estreito de Câmara de Lobos\, Estreito de Câmara de Lobos\, Portugal
END:VEVENT
BEGIN:VEVENT
DTSTART;VALUE=DATE:20260815
DTEND;VALUE=DATE:20260817
DTSTAMP:20260422T032834
CREATED:20260313T094742Z
LAST-MODIFIED:20260313T094742Z
UID:8478-1786752000-1786924799@osinfantes.pt
SUMMARY:Festas de São Roque
DESCRIPTION:Festas de São Roque
URL:https://osinfantes.pt/evento/festas-de-sao-roque/
LOCATION:São Roque
END:VEVENT
BEGIN:VEVENT
DTSTART;VALUE=DATE:20260822
DTEND;VALUE=DATE:20260823
DTSTAMP:20260422T032835
CREATED:20260318T144945Z
LAST-MODIFIED:20260318T144945Z
UID:8483-1787356800-1787443199@osinfantes.pt
SUMMARY:Enterro do osso - Festas de São Roque
DESCRIPTION:Enterro do ossos das festas de São Roque
URL:https://osinfantes.pt/evento/enterro-do-osso-festas-de-sao-roque/
LOCATION:São Roque
END:VEVENT
BEGIN:VEVENT
DTSTART;VALUE=DATE:20260822
DTEND;VALUE=DATE:20260824
DTSTAMP:20260422T032835
CREATED:20260318T145212Z
LAST-MODIFIED:20260319T220533Z
UID:8486-1787356800-1787529599@osinfantes.pt
SUMMARY:Festas do Senhor no Seixal
DESCRIPTION:Festa do Senhor do Seixal\, Porto Moniz no fim de semana de 22 a 23 de Agosto de 2026. No sábado das 11h30 às 20h e no domingo das 14h às 20h.
URL:https://osinfantes.pt/evento/festas-do-seixal/
LOCATION:Seixal
END:VEVENT
BEGIN:VEVENT
DTSTART;VALUE=DATE:20261101
DTEND;VALUE=DATE:20261102
DTSTAMP:20260422T032835
CREATED:20260108T144235Z
LAST-MODIFIED:20260108T144235Z
UID:8383-1793491200-1793577599@osinfantes.pt
SUMMARY:Festa de Nossa Senhora dos Anjos
DESCRIPTION:Festa de Nossa Senhora dos Anjos\, Capela dos Anjos\, Anjos\, Ponta de Sol
URL:https://osinfantes.pt/evento/festa-de-nossa-senhora-dos-anjos/
LOCATION:Capela dos Anjos\, Ponta de Sol
END:VEVENT
BEGIN:VEVENT
DTSTART;VALUE=DATE:20270109
DTEND;VALUE=DATE:20270111
DTSTAMP:20260422T032835
CREATED:20260326T224459Z
LAST-MODIFIED:20260326T224459Z
UID:8505-1799452800-1799625599@osinfantes.pt
SUMMARY:Sagrada Familía - Capela de São João
DESCRIPTION:Sagrada Familía Capela de São João\, Câmara de Lobos
URL:https://osinfantes.pt/evento/sagrada-familia-capela-de-sao-joao/
LOCATION:Capela de São João\, Câmara de Lobos\, Portugal
END:VEVENT
END:VCALENDAR