BEGIN:VCALENDAR
VERSION:2.0
PRODID:-//Banda Orquestral Os Infantes - ECPv6.15.20//NONSGML v1.0//EN
CALSCALE:GREGORIAN
METHOD:PUBLISH
X-WR-CALNAME:Banda Orquestral Os Infantes
X-ORIGINAL-URL:https://osinfantes.pt
X-WR-CALDESC:Eventos para Banda Orquestral Os Infantes
REFRESH-INTERVAL;VALUE=DURATION:PT1H
X-Robots-Tag:noindex
X-PUBLISHED-TTL:PT1H
BEGIN:VTIMEZONE
TZID:Atlantic/Madeira
BEGIN:DAYLIGHT
TZOFFSETFROM:+0000
TZOFFSETTO:+0100
TZNAME:WEST
DTSTART:20240331T010000
END:DAYLIGHT
BEGIN:STANDARD
TZOFFSETFROM:+0100
TZOFFSETTO:+0000
TZNAME:WET
DTSTART:20241027T010000
END:STANDARD
BEGIN:DAYLIGHT
TZOFFSETFROM:+0000
TZOFFSETTO:+0100
TZNAME:WEST
DTSTART:20250330T010000
END:DAYLIGHT
BEGIN:STANDARD
TZOFFSETFROM:+0100
TZOFFSETTO:+0000
TZNAME:WET
DTSTART:20251026T010000
END:STANDARD
BEGIN:DAYLIGHT
TZOFFSETFROM:+0000
TZOFFSETTO:+0100
TZNAME:WEST
DTSTART:20260329T010000
END:DAYLIGHT
BEGIN:STANDARD
TZOFFSETFROM:+0100
TZOFFSETTO:+0000
TZNAME:WET
DTSTART:20261025T010000
END:STANDARD
BEGIN:DAYLIGHT
TZOFFSETFROM:+0000
TZOFFSETTO:+0100
TZNAME:WEST
DTSTART:20270328T010000
END:DAYLIGHT
BEGIN:STANDARD
TZOFFSETFROM:+0100
TZOFFSETTO:+0000
TZNAME:WET
DTSTART:20271031T010000
END:STANDARD
END:VTIMEZONE
BEGIN:VEVENT
DTSTART;TZID=Atlantic/Madeira:20251215T060000
DTEND;TZID=Atlantic/Madeira:20251215T090000
DTSTAMP:20260426T034953
CREATED:20251118T221425Z
LAST-MODIFIED:20251202T212624Z
UID:8286-1765778400-1765789200@osinfantes.pt
SUMMARY:Missa do Parto Cabo Podão
DESCRIPTION:
URL:https://osinfantes.pt/evento/missa-do-parto-marinheira/
LOCATION:Paroquia do Estreito de Câmara de Lobos
END:VEVENT
BEGIN:VEVENT
DTSTART;TZID=Atlantic/Madeira:20251217T200000
DTEND;TZID=Atlantic/Madeira:20251218T090000
DTSTAMP:20260426T034953
CREATED:20251125T231724Z
LAST-MODIFIED:20251125T231804Z
UID:8303-1766001600-1766048400@osinfantes.pt
SUMMARY:Missa do Parto Tiro Liro
DESCRIPTION:
URL:https://osinfantes.pt/evento/missa-do-parto-tiro-liro/
END:VEVENT
BEGIN:VEVENT
DTSTART;TZID=Atlantic/Madeira:20251219T180000
DTEND;TZID=Atlantic/Madeira:20251219T223000
DTSTAMP:20260426T034953
CREATED:20251125T231953Z
LAST-MODIFIED:20251125T232203Z
UID:8305-1766167200-1766183400@osinfantes.pt
SUMMARY:Missa do Parto da Quinta Grande
DESCRIPTION:
URL:https://osinfantes.pt/evento/missa-do-parto-da-quinta-grande/
END:VEVENT
BEGIN:VEVENT
DTSTART;TZID=Atlantic/Madeira:20251219T233000
DTEND;TZID=Atlantic/Madeira:20251220T090000
DTSTAMP:20260426T034953
CREATED:20251125T232403Z
LAST-MODIFIED:20251125T232403Z
UID:8307-1766187000-1766221200@osinfantes.pt
SUMMARY:Missa do Parto da Saraiva
DESCRIPTION:
URL:https://osinfantes.pt/evento/missa-do-parto-da-saraiva/
END:VEVENT
BEGIN:VEVENT
DTSTART;TZID=Atlantic/Madeira:20251221T040000
DTEND;TZID=Atlantic/Madeira:20251221T090000
DTSTAMP:20260426T034953
CREATED:20251123T180421Z
LAST-MODIFIED:20251123T180421Z
UID:8297-1766289600-1766307600@osinfantes.pt
SUMMARY:Missa do Parto dos Canhas
DESCRIPTION:
URL:https://osinfantes.pt/evento/missa-do-parto-dos-canhas/
LOCATION:canhas
END:VEVENT
BEGIN:VEVENT
DTSTART;TZID=Atlantic/Madeira:20251221T233000
DTEND;TZID=Atlantic/Madeira:20251222T090000
DTSTAMP:20260426T034953
CREATED:20251123T181223Z
LAST-MODIFIED:20251123T181223Z
UID:8301-1766359800-1766394000@osinfantes.pt
SUMMARY:Missa do Parto da Torre
DESCRIPTION:
URL:https://osinfantes.pt/evento/missa-do-parto-da-torre/
LOCATION:Paróquia de Santa Cecília\, Câmara de Lobos\, Portugal
END:VEVENT
BEGIN:VEVENT
DTSTART;TZID=Atlantic/Madeira:20251222T170000
DTEND;TZID=Atlantic/Madeira:20251222T180000
DTSTAMP:20260426T034953
CREATED:20251221T082316Z
LAST-MODIFIED:20251221T082436Z
UID:8354-1766422800-1766426400@osinfantes.pt
SUMMARY:Noite do Mercado - Est. Câmara de Lobos
DESCRIPTION:Atuação noite do mercado do estreito.
URL:https://osinfantes.pt/evento/noite-do-mercado-t/
END:VEVENT
BEGIN:VEVENT
DTSTART;TZID=Atlantic/Madeira:20251223T060000
DTEND;TZID=Atlantic/Madeira:20251223T090000
DTSTAMP:20260426T034953
CREATED:20251220T175750Z
LAST-MODIFIED:20251222T202609Z
UID:8352-1766469600-1766480400@osinfantes.pt
SUMMARY:Missa do Parto - Sítio da Marinheira
DESCRIPTION:Missa do Parto do Sítio da Marinheira no Estreito de Câmara de Lobos
URL:https://osinfantes.pt/evento/missa-do-parto-sitio-da-marinheira/
END:VEVENT
BEGIN:VEVENT
DTSTART;TZID=Atlantic/Madeira:20251227T170000
DTEND;TZID=Atlantic/Madeira:20251227T183000
DTSTAMP:20260426T034953
CREATED:20251118T222655Z
LAST-MODIFIED:20251118T222655Z
UID:8292-1766854800-1766860200@osinfantes.pt
SUMMARY:Atuação Garachico
DESCRIPTION:
URL:https://osinfantes.pt/evento/atuacao-garachico/
LOCATION:Garachico
END:VEVENT
BEGIN:VEVENT
DTSTART;TZID=Atlantic/Madeira:20251228T150000
DTEND;TZID=Atlantic/Madeira:20251228T160000
DTSTAMP:20260426T034953
CREATED:20251118T220906Z
LAST-MODIFIED:20251118T220906Z
UID:8282-1766934000-1766937600@osinfantes.pt
SUMMARY:Atuação de Natal
DESCRIPTION:
URL:https://osinfantes.pt/evento/atuacao-de-natal-2/
LOCATION:Funchal\, Funchal\, Portugal
END:VEVENT
BEGIN:VEVENT
DTSTART;VALUE=DATE:20251231
DTEND;VALUE=DATE:20260101
DTSTAMP:20260426T034953
CREATED:20250515T201754Z
LAST-MODIFIED:20250515T202629Z
UID:7112-1767139200-1767225599@osinfantes.pt
SUMMARY:Animação - Passagem de Ano 2025/2026 - Caniço de Baixo
DESCRIPTION:Animação de Passagem de Ano 2025/2026 no Hotel The Views Oásis
URL:https://osinfantes.pt/evento/animacao-passagem-de-ano-2025-2026-canico-de-baixo/
LOCATION:Caniço\, Caniço\, Santa Cruz\, 9125\, Portugal
END:VEVENT
BEGIN:VEVENT
DTSTART;VALUE=DATE:20260117
DTEND;VALUE=DATE:20260119
DTSTAMP:20260426T034953
CREATED:20260106T141017Z
LAST-MODIFIED:20260106T141017Z
UID:8365-1768608000-1768780799@osinfantes.pt
SUMMARY:Festa da Sagrada Família - Capela de São João
DESCRIPTION:17 de janeiro 12h – 23h \n18 de janeiro 12h – 23h
URL:https://osinfantes.pt/evento/festa-da-sagrada-familia-capela-de-sao-joao/
LOCATION:Capela de São João\, Câmara de Lobos\, Portugal
END:VEVENT
BEGIN:VEVENT
DTSTART;VALUE=DATE:20260125
DTEND;VALUE=DATE:20260126
DTSTAMP:20260426T034953
CREATED:20260106T150534Z
LAST-MODIFIED:20260106T160811Z
UID:8367-1769299200-1769385599@osinfantes.pt
SUMMARY:Festa do Panelo - Chão da Ribeira
DESCRIPTION:
URL:https://osinfantes.pt/evento/festa-do-panelo-chao-da-ribeira/
END:VEVENT
BEGIN:VEVENT
DTSTART;TZID=Atlantic/Madeira:20260215T160000
DTEND;TZID=Atlantic/Madeira:20260215T170000
DTSTAMP:20260426T034953
CREATED:20260115T194624Z
LAST-MODIFIED:20260115T195214Z
UID:8388-1771171200-1771174800@osinfantes.pt
SUMMARY:Cortejo de Carnaval Estreito de Câmara de Lobos
DESCRIPTION:Cortejo de Carnaval do Estreito de Câmara de Lobos
URL:https://osinfantes.pt/evento/cortejo-de-carnaval-estreito-de-camara-de-lobos/
LOCATION:Estreito de Câmara de Lobos\, Estreito de Câmara de Lobos\, Portugal
END:VEVENT
BEGIN:VEVENT
DTSTART;TZID=Atlantic/Madeira:20260216T190000
DTEND;TZID=Atlantic/Madeira:20260216T210000
DTSTAMP:20260426T034953
CREATED:20260115T195040Z
LAST-MODIFIED:20260115T195040Z
UID:8390-1771268400-1771275600@osinfantes.pt
SUMMARY:Cortejo de Carnaval de Câmara de Lobos
DESCRIPTION:Desfile de carnaval de Câmara de Lobos
URL:https://osinfantes.pt/evento/cortejo-de-carnaval-de-camara-de-lobos/
LOCATION:Câmara de Lobos\, Câmara de Lobos\, Portugal
END:VEVENT
BEGIN:VEVENT
DTSTART;TZID=Atlantic/Madeira:20260222T110000
DTEND;TZID=Atlantic/Madeira:20260222T120000
DTSTAMP:20260426T034953
CREATED:20260106T215921Z
LAST-MODIFIED:20260106T215921Z
UID:8376-1771758000-1771761600@osinfantes.pt
SUMMARY:Atuação de Carnaval no Funchal
DESCRIPTION:Atuação de Carnaval na Placa Central\, Funchal\, Madeira
URL:https://osinfantes.pt/evento/atuacao-de-carnaval-no-funchal/
END:VEVENT
BEGIN:VEVENT
DTSTART;VALUE=DATE:20260306
DTEND;VALUE=DATE:20260307
DTSTAMP:20260426T034953
CREATED:20260129T224816Z
LAST-MODIFIED:20260129T232938Z
UID:8399-1772755200-1772841599@osinfantes.pt
SUMMARY:Evento Privado
DESCRIPTION:Evento Privado no seixal início às 13h às 16h
URL:https://osinfantes.pt/evento/evento-privado-3/
LOCATION:Seixal
END:VEVENT
BEGIN:VEVENT
DTSTART;TZID=Atlantic/Madeira:20260308T170000
DTEND;TZID=Atlantic/Madeira:20260308T190000
DTSTAMP:20260426T034953
CREATED:20260209T235816Z
LAST-MODIFIED:20260223T233111Z
UID:8432-1772989200-1772996400@osinfantes.pt
SUMMARY:Procissão do Senhor dos Passos - Paróquia de Santa Cecília
DESCRIPTION:Procissão em honra do Senhor dos Passos na paróquia de Santa Cecília\, Câmara de Lobos. \n17h
URL:https://osinfantes.pt/evento/procissao-do-senhor-dos-passos/
LOCATION:Paróquia de Santa Cecília\, Câmara de Lobos\, Portugal
END:VEVENT
BEGIN:VEVENT
DTSTART;TZID=Atlantic/Madeira:20260322T100000
DTEND;TZID=Atlantic/Madeira:20260322T120000
DTSTAMP:20260426T034953
CREATED:20260226T091241Z
LAST-MODIFIED:20260319T215939Z
UID:8452-1774173600-1774180800@osinfantes.pt
SUMMARY:Procissão dos Passos Paroquia dos Canhas
DESCRIPTION:Procissão dos passos na paroquia dos Canhas\, Ponta de Sol. 8h45 na banda\, 9h30 nos canhas.
URL:https://osinfantes.pt/evento/procissao-dos-passos-paroquia-dos-canhas/
END:VEVENT
BEGIN:VEVENT
DTSTART;TZID=Atlantic/Madeira:20260403T190000
DTEND;TZID=Atlantic/Madeira:20260403T200000
DTSTAMP:20260426T034953
CREATED:20260311T183906Z
LAST-MODIFIED:20260311T184818Z
UID:8464-1775242800-1775246400@osinfantes.pt
SUMMARY:Procissão de Sexta-feira Santa Estreito de Câmara de Lobos
DESCRIPTION:Procissão de Sexta-feira Santa no Estreito de Câmara de Lobos\, no próximo dia 3 de abril de 2026.
URL:https://osinfantes.pt/evento/procissao-sexta-feira-santa-estreito-de-camara-de-lobos-3-abril/
END:VEVENT
BEGIN:VEVENT
DTSTART;TZID=Atlantic/Madeira:20260403T190000
DTEND;TZID=Atlantic/Madeira:20260403T200000
DTSTAMP:20260426T034953
CREATED:20260313T094429Z
LAST-MODIFIED:20260313T094429Z
UID:8475-1775242800-1775246400@osinfantes.pt
SUMMARY:Procissão Sexta-feira Santa - Canhas\, Ponta de sol
DESCRIPTION:Procissão de Sexta-feira Santa na paróquia dos Canhas\, Ponta de Sol\, no dia 3 de abril.
URL:https://osinfantes.pt/evento/procissao-sexta-feira-santa-canhas-ponta-de-sol/
LOCATION:Paroquia dos Canhas
END:VEVENT
BEGIN:VEVENT
DTSTART;TZID=Atlantic/Madeira:20260405T083000
DTEND;TZID=Atlantic/Madeira:20260405T130000
DTSTAMP:20260426T034953
CREATED:20260311T185232Z
LAST-MODIFIED:20260311T185232Z
UID:8471-1775377800-1775394000@osinfantes.pt
SUMMARY:Procissão Domingo de Páscoa no Estreito de Câmara de Lobos
DESCRIPTION:Procissão de Domingo de Páscoa\, no Estreito de Câmara de Lobos no dia 5 de Abril de 2026. Das 8h30 às 13h.
URL:https://osinfantes.pt/evento/procissao-domingo-de-pascoa-no-estreito-de-camara-de-lobos/
LOCATION:Paroquia do Estreito de Câmara de Lobos
END:VEVENT
BEGIN:VEVENT
DTSTART;VALUE=DATE:20260418
DTEND;VALUE=DATE:20260420
DTSTAMP:20260426T034953
CREATED:20260319T220216Z
LAST-MODIFIED:20260319T220235Z
UID:8493-1776470400-1776643199@osinfantes.pt
SUMMARY:Encontro de Bandas da Ribeira Brava
DESCRIPTION:Encontro de bandas da Ribeira Brava o dia de atuação ainda será decidido.
URL:https://osinfantes.pt/evento/encontro-de-bandas-da-ribeira-brava/
LOCATION:Ribeira Brava\, Ribeira Brava\, Portugal
END:VEVENT
BEGIN:VEVENT
DTSTART;VALUE=DATE:20260427
DTEND;VALUE=DATE:20260428
DTSTAMP:20260426T034953
CREATED:20260226T092802Z
LAST-MODIFIED:20260226T092802Z
UID:8455-1777248000-1777334399@osinfantes.pt
SUMMARY:Evento Privado - Chão da Ribeira
DESCRIPTION:Evento com a Confraria Enogastronomica do Seixal.
URL:https://osinfantes.pt/evento/evento-privado-chao-da-ribeira/
END:VEVENT
BEGIN:VEVENT
DTSTART;TZID=Atlantic/Madeira:20260430T133000
DTEND;TZID=Atlantic/Madeira:20260430T150000
DTSTAMP:20260426T034953
CREATED:20260406T134248Z
LAST-MODIFIED:20260406T135916Z
UID:8526-1777555800-1777561200@osinfantes.pt
SUMMARY:Festa dos Maios - Garouta do Calhau - Igreja do Socorro\, Funchal
DESCRIPTION:Festa dos Maios – Garouta do Calhau – Igreja do Socorro\, Funchal\,  13h45
URL:https://osinfantes.pt/evento/igreja-do-socorro/
LOCATION:Igreja do Socorro
END:VEVENT
BEGIN:VEVENT
DTSTART;TZID=Atlantic/Madeira:20260502T120000
DTEND;TZID=Atlantic/Madeira:20260502T140000
DTSTAMP:20260426T034953
CREATED:20260416T221754Z
LAST-MODIFIED:20260416T221754Z
UID:8543-1777723200-1777730400@osinfantes.pt
SUMMARY:Evento Privado
DESCRIPTION:
URL:https://osinfantes.pt/evento/evento-privado-5/
END:VEVENT
BEGIN:VEVENT
DTSTART;VALUE=DATE:20260523
DTEND;VALUE=DATE:20260525
DTSTAMP:20260426T034953
CREATED:20260326T224153Z
LAST-MODIFIED:20260326T224153Z
UID:8503-1779494400-1779667199@osinfantes.pt
SUMMARY:Pentecostes Canhas
DESCRIPTION:Pentecostes Paróquia dos Canhas\, Ponta de Sol
URL:https://osinfantes.pt/evento/pentecostes-canhas/
LOCATION:Paroquia dos Canhas
END:VEVENT
BEGIN:VEVENT
DTSTART;VALUE=DATE:20260524
DTEND;VALUE=DATE:20260525
DTSTAMP:20260426T034953
CREATED:20260406T134842Z
LAST-MODIFIED:20260406T134842Z
UID:8532-1779580800-1779667199@osinfantes.pt
SUMMARY:Festa do Espírito Santo - Estreito de Câmara de Lobos
DESCRIPTION:Festa do Espírito Santo no Estreito de Câmara de Lobos
URL:https://osinfantes.pt/evento/festa-do-espirito-santo-estreito-de-camara-de-lobos-3/
LOCATION:Estreito de Câmara de Lobos\, Estreito de Câmara de Lobos\, Portugal
END:VEVENT
BEGIN:VEVENT
DTSTART;TZID=Atlantic/Madeira:20260529T183000
DTEND;TZID=Atlantic/Madeira:20260529T220000
DTSTAMP:20260426T034953
CREATED:20260326T224822Z
LAST-MODIFIED:20260406T134607Z
UID:8507-1780079400-1780092000@osinfantes.pt
SUMMARY:Evento Privado
DESCRIPTION:Evento Privado – Jantar beneficiente Garota do Calhau\, 18h45
URL:https://osinfantes.pt/evento/evento-privado-4/
LOCATION:Quinta Magnólia\, Funchal\, Funchal
END:VEVENT
BEGIN:VEVENT
DTSTART;VALUE=DATE:20260622
DTEND;VALUE=DATE:20260625
DTSTAMP:20260426T034953
CREATED:20260416T221618Z
LAST-MODIFIED:20260416T221618Z
UID:8541-1782086400-1782345599@osinfantes.pt
SUMMARY:Marchas de São João - Porto Santo
DESCRIPTION:Marchas de São João\, no Porto Santo
URL:https://osinfantes.pt/evento/marchas-de-sao-joao-porto-santo-3/
LOCATION:Porto Santo\, Porto Santo
END:VEVENT
END:VCALENDAR