BEGIN:VCALENDAR
VERSION:2.0
PRODID:-//Banda Orquestral Os Infantes - ECPv6.15.20//NONSGML v1.0//EN
CALSCALE:GREGORIAN
METHOD:PUBLISH
X-WR-CALNAME:Banda Orquestral Os Infantes
X-ORIGINAL-URL:https://osinfantes.pt
X-WR-CALDESC:Eventos para Banda Orquestral Os Infantes
REFRESH-INTERVAL;VALUE=DURATION:PT1H
X-Robots-Tag:noindex
X-PUBLISHED-TTL:PT1H
BEGIN:VTIMEZONE
TZID:Atlantic/Madeira
BEGIN:DAYLIGHT
TZOFFSETFROM:+0000
TZOFFSETTO:+0100
TZNAME:WEST
DTSTART:20250330T010000
END:DAYLIGHT
BEGIN:STANDARD
TZOFFSETFROM:+0100
TZOFFSETTO:+0000
TZNAME:WET
DTSTART:20251026T010000
END:STANDARD
BEGIN:DAYLIGHT
TZOFFSETFROM:+0000
TZOFFSETTO:+0100
TZNAME:WEST
DTSTART:20260329T010000
END:DAYLIGHT
BEGIN:STANDARD
TZOFFSETFROM:+0100
TZOFFSETTO:+0000
TZNAME:WET
DTSTART:20261025T010000
END:STANDARD
BEGIN:DAYLIGHT
TZOFFSETFROM:+0000
TZOFFSETTO:+0100
TZNAME:WEST
DTSTART:20270328T010000
END:DAYLIGHT
BEGIN:STANDARD
TZOFFSETFROM:+0100
TZOFFSETTO:+0000
TZNAME:WET
DTSTART:20271031T010000
END:STANDARD
END:VTIMEZONE
BEGIN:VEVENT
DTSTART;VALUE=DATE:20260805
DTEND;VALUE=DATE:20260811
DTSTAMP:20260421T223350
CREATED:20250619T151541Z
LAST-MODIFIED:20250710T190134Z
UID:7563-1785888000-1786406399@osinfantes.pt
SUMMARY:Intercâmbio na Madeira com a Associação Filarmónica Liberalitas Julia
DESCRIPTION:Intercâmbio na Madeira com a Associação Filarmónica Liberalitas Julia\, de Évora
URL:https://osinfantes.pt/evento/intercambio-na-madeira-com-a-associacao-filarmonica-liberalitas-julia/
LOCATION:Câmara de Lobos\, Câmara de Lobos\, Portugal
END:VEVENT
END:VCALENDAR