BEGIN:VCALENDAR
VERSION:2.0
PRODID:-//Banda Orquestral Os Infantes - ECPv6.15.20//NONSGML v1.0//EN
CALSCALE:GREGORIAN
METHOD:PUBLISH
X-ORIGINAL-URL:https://osinfantes.pt
X-WR-CALDESC:Eventos para Banda Orquestral Os Infantes
REFRESH-INTERVAL;VALUE=DURATION:PT1H
X-Robots-Tag:noindex
X-PUBLISHED-TTL:PT1H
BEGIN:VTIMEZONE
TZID:Atlantic/Madeira
BEGIN:DAYLIGHT
TZOFFSETFROM:+0000
TZOFFSETTO:+0100
TZNAME:WEST
DTSTART:20250330T010000
END:DAYLIGHT
BEGIN:STANDARD
TZOFFSETFROM:+0100
TZOFFSETTO:+0000
TZNAME:WET
DTSTART:20251026T010000
END:STANDARD
BEGIN:DAYLIGHT
TZOFFSETFROM:+0000
TZOFFSETTO:+0100
TZNAME:WEST
DTSTART:20260329T010000
END:DAYLIGHT
BEGIN:STANDARD
TZOFFSETFROM:+0100
TZOFFSETTO:+0000
TZNAME:WET
DTSTART:20261025T010000
END:STANDARD
BEGIN:DAYLIGHT
TZOFFSETFROM:+0000
TZOFFSETTO:+0100
TZNAME:WEST
DTSTART:20270328T010000
END:DAYLIGHT
BEGIN:STANDARD
TZOFFSETFROM:+0100
TZOFFSETTO:+0000
TZNAME:WET
DTSTART:20271031T010000
END:STANDARD
END:VTIMEZONE
BEGIN:VEVENT
DTSTART;TZID=Atlantic/Madeira:20260308T170000
DTEND;TZID=Atlantic/Madeira:20260308T190000
DTSTAMP:20260421T142503
CREATED:20260209T235816Z
LAST-MODIFIED:20260223T233111Z
UID:8432-1772989200-1772996400@osinfantes.pt
SUMMARY:Procissão do Senhor dos Passos - Paróquia de Santa Cecília
DESCRIPTION:Procissão em honra do Senhor dos Passos na paróquia de Santa Cecília\, Câmara de Lobos. \n17h
URL:https://osinfantes.pt/evento/procissao-do-senhor-dos-passos/
LOCATION:Paróquia de Santa Cecília\, Câmara de Lobos\, Portugal
END:VEVENT
END:VCALENDAR