BEGIN:VCALENDAR
VERSION:2.0
PRODID:-//Banda Orquestral Os Infantes - ECPv6.15.20//NONSGML v1.0//EN
CALSCALE:GREGORIAN
METHOD:PUBLISH
X-ORIGINAL-URL:https://osinfantes.pt
X-WR-CALDESC:Eventos para Banda Orquestral Os Infantes
REFRESH-INTERVAL;VALUE=DURATION:PT1H
X-Robots-Tag:noindex
X-PUBLISHED-TTL:PT1H
BEGIN:VTIMEZONE
TZID:Atlantic/Madeira
BEGIN:DAYLIGHT
TZOFFSETFROM:+0000
TZOFFSETTO:+0100
TZNAME:WEST
DTSTART:20240331T010000
END:DAYLIGHT
BEGIN:STANDARD
TZOFFSETFROM:+0100
TZOFFSETTO:+0000
TZNAME:WET
DTSTART:20241027T010000
END:STANDARD
BEGIN:DAYLIGHT
TZOFFSETFROM:+0000
TZOFFSETTO:+0100
TZNAME:WEST
DTSTART:20250330T010000
END:DAYLIGHT
BEGIN:STANDARD
TZOFFSETFROM:+0100
TZOFFSETTO:+0000
TZNAME:WET
DTSTART:20251026T010000
END:STANDARD
BEGIN:DAYLIGHT
TZOFFSETFROM:+0000
TZOFFSETTO:+0100
TZNAME:WEST
DTSTART:20260329T010000
END:DAYLIGHT
BEGIN:STANDARD
TZOFFSETFROM:+0100
TZOFFSETTO:+0000
TZNAME:WET
DTSTART:20261025T010000
END:STANDARD
END:VTIMEZONE
BEGIN:VEVENT
DTSTART;TZID=Atlantic/Madeira:20251205T210000
DTEND;TZID=Atlantic/Madeira:20251205T223000
DTSTAMP:20260426T021408
CREATED:20251023T211710Z
LAST-MODIFIED:20251023T212347Z
UID:8258-1764968400-1764973800@osinfantes.pt
SUMMARY:Concerto Natal 2025
DESCRIPTION:PT \nConcerto de Natal 2025\, d’Os Infantes. Irá decorrer na Casa da Cultura de Câmara de Lobos. \nVenha viver toda a magia do Natal connosco! \nEng \nChristmas Concert 2025\, by Os Infantes. It will take place at the Casa da Cultura de Câmara de Lobos. \nCome experience all the magic of Christmas with us!
URL:https://osinfantes.pt/evento/concerto-natal-2025/
LOCATION:Casa da Cultura\, Câmara de Lobos\, R. São João de Deus 9300\, 9300-392 Câmara de Lobos\, Câmara De Lobos\, Madeira\, Portugal
CATEGORIES:Concerto
END:VEVENT
END:VCALENDAR