BEGIN:VCALENDAR
VERSION:2.0
PRODID:-//Banda Orquestral Os Infantes - ECPv6.15.20//NONSGML v1.0//EN
CALSCALE:GREGORIAN
METHOD:PUBLISH
X-WR-CALNAME:Banda Orquestral Os Infantes
X-ORIGINAL-URL:https://osinfantes.pt
X-WR-CALDESC:Eventos para Banda Orquestral Os Infantes
REFRESH-INTERVAL;VALUE=DURATION:PT1H
X-Robots-Tag:noindex
X-PUBLISHED-TTL:PT1H
BEGIN:VTIMEZONE
TZID:Atlantic/Madeira
BEGIN:DAYLIGHT
TZOFFSETFROM:+0000
TZOFFSETTO:+0100
TZNAME:WEST
DTSTART:20240331T010000
END:DAYLIGHT
BEGIN:STANDARD
TZOFFSETFROM:+0100
TZOFFSETTO:+0000
TZNAME:WET
DTSTART:20241027T010000
END:STANDARD
BEGIN:DAYLIGHT
TZOFFSETFROM:+0000
TZOFFSETTO:+0100
TZNAME:WEST
DTSTART:20250330T010000
END:DAYLIGHT
BEGIN:STANDARD
TZOFFSETFROM:+0100
TZOFFSETTO:+0000
TZNAME:WET
DTSTART:20251026T010000
END:STANDARD
BEGIN:DAYLIGHT
TZOFFSETFROM:+0000
TZOFFSETTO:+0100
TZNAME:WEST
DTSTART:20260329T010000
END:DAYLIGHT
BEGIN:STANDARD
TZOFFSETFROM:+0100
TZOFFSETTO:+0000
TZNAME:WET
DTSTART:20261025T010000
END:STANDARD
END:VTIMEZONE
BEGIN:VEVENT
DTSTART;TZID=Atlantic/Madeira:20251004T090000
DTEND;TZID=Atlantic/Madeira:20251004T093000
DTSTAMP:20260426T052929
CREATED:20250904T182619Z
LAST-MODIFIED:20250904T182619Z
UID:8221-1759568400-1759570200@osinfantes.pt
SUMMARY:Dia do concelho de Câmara de Lobos
DESCRIPTION:Hastear da bandeira
URL:https://osinfantes.pt/evento/dia-do-concelho-de-camara-de-lobos/
LOCATION:Câmara de Lobos\, Câmara de Lobos\, Portugal
END:VEVENT
BEGIN:VEVENT
DTSTART;TZID=Atlantic/Madeira:20251004T110000
DTEND;TZID=Atlantic/Madeira:20251004T120000
DTSTAMP:20260426T052929
CREATED:20250903T124120Z
LAST-MODIFIED:20250903T124120Z
UID:8218-1759575600-1759579200@osinfantes.pt
SUMMARY:Evento Privado - São Martinho
DESCRIPTION:
URL:https://osinfantes.pt/evento/evento-privado-sao-martinho/
END:VEVENT
BEGIN:VEVENT
DTSTART;TZID=Atlantic/Madeira:20251004T190000
DTEND;TZID=Atlantic/Madeira:20251004T210000
DTSTAMP:20260426T052929
CREATED:20250904T211322Z
LAST-MODIFIED:20250904T211322Z
UID:8224-1759604400-1759611600@osinfantes.pt
SUMMARY:Concerto - Dia do Concelho de Câmara de Lobos
DESCRIPTION:19h45 – Concerto à saída da missa na Igreja do Jardim da Serra.
URL:https://osinfantes.pt/evento/concerto-dia-do-concelho-de-camara-de-lobos/
END:VEVENT
END:VCALENDAR